BEGIN:VCALENDAR
VERSION:2.0
PRODID:-//Murrumbeena Bowls Club - ECPv4.6.20.1//NONSGML v1.0//EN
CALSCALE:GREGORIAN
METHOD:PUBLISH
X-WR-CALNAME:Murrumbeena Bowls Club
X-ORIGINAL-URL:http://murrumbeenabowlsclub.com.au
X-WR-CALDESC:Events for Murrumbeena Bowls Club
BEGIN:VEVENT
DTSTART;TZID=UTC+0:20200315T130000
DTEND;TZID=UTC+0:20200315T160000
DTSTAMP:20200301T104916
CREATED:20200205T220506Z
LAST-MODIFIED:20200207T014300Z
UID:1808-1584277200-1584288000@murrumbeenabowlsclub.com.au
SUMMARY:Private Function Richmond Fan Day in support Bushfire relief
DESCRIPTION:
URL:http://murrumbeenabowlsclub.com.au/event/private-function-100/
LOCATION:10 Blackwood Street\, Carnegie\, VIC\, 3163\, Australia
GEO:-37.887018;145.066068
X-APPLE-STRUCTURED-LOCATION;VALUE=URI;X-ADDRESS=10 Blackwood Street Carnegie VIC 3163 Australia;X-APPLE-RADIUS=500;X-TITLE=10 Blackwood Street:geo:145.066068,-37.887018
ATTACH;FMTTYPE=image/jpeg:http://murrumbeenabowlsclub.com.au/wp-content/uploads/2020/02/Richmond-Flyer-20200.jpg
END:VEVENT
END:VCALENDAR