BEGIN:VCALENDAR
VERSION:2.0
PRODID:-//Murrumbeena Bowls Club - ECPv4.6.20.1//NONSGML v1.0//EN
CALSCALE:GREGORIAN
METHOD:PUBLISH
X-WR-CALNAME:Murrumbeena Bowls Club
X-ORIGINAL-URL:http://murrumbeenabowlsclub.com.au
X-WR-CALDESC:Events for Murrumbeena Bowls Club
BEGIN:VEVENT
DTSTART;TZID=UTC+0:20200208T180000
DTEND;TZID=UTC+0:20200208T203000
DTSTAMP:20200301T104236
CREATED:20190912T041112Z
LAST-MODIFIED:20200207T010224Z
UID:1650-1581184800-1581193800@murrumbeenabowlsclub.com.au
SUMMARY:Club Function After Pennant Gathering
DESCRIPTION:
URL:http://murrumbeenabowlsclub.com.au/event/club-function-3/
LOCATION:10 Blackwood Street\, Carnegie\, VIC\, 3163\, Australia
GEO:-37.887018;145.066068
X-APPLE-STRUCTURED-LOCATION;VALUE=URI;X-ADDRESS=10 Blackwood Street Carnegie VIC 3163 Australia;X-APPLE-RADIUS=500;X-TITLE=10 Blackwood Street:geo:145.066068,-37.887018
END:VEVENT
END:VCALENDAR