BEGIN:VCALENDAR
VERSION:2.0
PRODID:-//Murrumbeena Bowls Club - ECPv4.6.20.1//NONSGML v1.0//EN
CALSCALE:GREGORIAN
METHOD:PUBLISH
X-WR-CALNAME:Murrumbeena Bowls Club
X-ORIGINAL-URL:http://murrumbeenabowlsclub.com.au
X-WR-CALDESC:Events for Murrumbeena Bowls Club
BEGIN:VEVENT
DTSTART;TZID=UTC+0:20200215T190000
DTEND;TZID=UTC+0:20200215T220000
DTSTAMP:20200301T104334
CREATED:20200207T010528Z
LAST-MODIFIED:20200207T014012Z
UID:1813-1581793200-1581804000@murrumbeenabowlsclub.com.au
SUMMARY:Club Event Trivia Night supporting Bushfire renewal
DESCRIPTION:
URL:http://murrumbeenabowlsclub.com.au/event/club-event-trivia-night-supporting-bushfire-renewal/
LOCATION:10 Blackwood Street\, Carnegie\, VIC\, 3163\, Australia
GEO:-37.887018;145.066068
X-APPLE-STRUCTURED-LOCATION;VALUE=URI;X-ADDRESS=10 Blackwood Street Carnegie VIC 3163 Australia;X-APPLE-RADIUS=500;X-TITLE=10 Blackwood Street:geo:145.066068,-37.887018
ATTACH;FMTTYPE=application/pdf:http://murrumbeenabowlsclub.com.au/wp-content/uploads/2020/02/trivianightv2-1.pdf
END:VEVENT
END:VCALENDAR