BEGIN:VCALENDAR
VERSION:2.0
PRODID:-//Murrumbeena Bowls Club - ECPv4.6.20.1//NONSGML v1.0//EN
CALSCALE:GREGORIAN
METHOD:PUBLISH
X-WR-CALNAME:Murrumbeena Bowls Club
X-ORIGINAL-URL:http://murrumbeenabowlsclub.com.au
X-WR-CALDESC:Events for Murrumbeena Bowls Club
BEGIN:VEVENT
DTSTART;TZID=UTC+0:20200222T120000
DTEND;TZID=UTC+0:20200222T180000
DTSTAMP:20200301T104416
CREATED:20190825T083851Z
LAST-MODIFIED:20190825T083851Z
UID:1622-1582372800-1582394400@murrumbeenabowlsclub.com.au
SUMMARY:Club Event
DESCRIPTION:
URL:http://murrumbeenabowlsclub.com.au/event/club-event-18/2020-02-22/
LOCATION:10 Blackwood Street\, Carnegie\, VIC\, 3163\, Australia
GEO:-37.887018;145.066068
X-APPLE-STRUCTURED-LOCATION;VALUE=URI;X-ADDRESS=10 Blackwood Street Carnegie VIC 3163 Australia;X-APPLE-RADIUS=500;X-TITLE=10 Blackwood Street:geo:145.066068,-37.887018
ATTACH;FMTTYPE=image/jpeg:http://murrumbeenabowlsclub.com.au/wp-content/uploads/2017/10/Picture-2.jpg
END:VEVENT
END:VCALENDAR