BEGIN:VCALENDAR
VERSION:2.0
PRODID:-//Murrumbeena Bowls Club - ECPv4.6.20.1//NONSGML v1.0//EN
CALSCALE:GREGORIAN
METHOD:PUBLISH
X-WR-CALNAME:Murrumbeena Bowls Club
X-ORIGINAL-URL:http://murrumbeenabowlsclub.com.au
X-WR-CALDESC:Events for Murrumbeena Bowls Club
BEGIN:VEVENT
DTSTART;TZID=UTC+0:20200218T093000
DTEND;TZID=UTC+0:20200218T153000
DTSTAMP:20200301T104347
CREATED:20190825T083701Z
LAST-MODIFIED:20190825T083701Z
UID:1613-1582018200-1582039800@murrumbeenabowlsclub.com.au
SUMMARY:Club Event
DESCRIPTION:
URL:http://murrumbeenabowlsclub.com.au/event/club-event-17/2020-02-18/
LOCATION:10 Blackwood Street\, Carnegie\, VIC\, 3163\, Australia
GEO:-37.887018;145.066068
X-APPLE-STRUCTURED-LOCATION;VALUE=URI;X-ADDRESS=10 Blackwood Street Carnegie VIC 3163 Australia;X-APPLE-RADIUS=500;X-TITLE=10 Blackwood Street:geo:145.066068,-37.887018
ATTACH;FMTTYPE=image/jpeg:http://murrumbeenabowlsclub.com.au/wp-content/uploads/2018/05/MBC-Join-Us.jpg
END:VEVENT
END:VCALENDAR